BEGIN:VCALENDAR
VERSION:2.0
PRODID:-//Tukios.com/
BEGIN:VEVENT
UID:a0ea5050-4b84-46fa-8495-11e606abb542@www.firlawnfuneralchapel.com
DTSTAMP:20260424T210141Z
DTSTART:20260530T200000Z
DTEND:20260530T210000Z
SUMMARY:Reception
DESCRIPTION:Reception to follow the funeral service
URL:https://www.firlawnfuneralchapel.com/obituaries/frank-kittock
LOCATION: 9978 US-12  Randle WA 98377
GEO:46.5339569;-121.9380653
END:VEVENT
END:VCALENDAR