BEGIN:VCALENDAR
VERSION:2.0
PRODID:-//Tukios.com/
BEGIN:VEVENT
UID:2ec96f19-e037-40f5-8337-2fbf101d7cce@www.firlawnfuneralchapel.com
DTSTAMP:20260424T205830Z
DTSTART:20260530T190000Z
DTEND:20260530T200000Z
SUMMARY:Celebration of Life
DESCRIPTION:Reception at the Randle Fire Hall following the funeral 
	service.
URL:https://www.firlawnfuneralchapel.com/obituaries/frank-kittock
LOCATION: 130 Morris Road  Randle WA 98377
GEO:46.5381939;-121.9143162
END:VEVENT
END:VCALENDAR